BEGIN:VCALENDAR
VERSION:2.0
PRODID:-//ILCB - ECPv6.15.20//NONSGML v1.0//EN
CALSCALE:GREGORIAN
METHOD:PUBLISH
X-ORIGINAL-URL:https://www.ilcb.fr
X-WR-CALDESC:Events for ILCB
REFRESH-INTERVAL;VALUE=DURATION:PT1H
X-Robots-Tag:noindex
X-PUBLISHED-TTL:PT1H
BEGIN:VTIMEZONE
TZID:Europe/Paris
BEGIN:DAYLIGHT
TZOFFSETFROM:+0100
TZOFFSETTO:+0200
TZNAME:CEST
DTSTART:20200329T010000
END:DAYLIGHT
BEGIN:STANDARD
TZOFFSETFROM:+0200
TZOFFSETTO:+0100
TZNAME:CET
DTSTART:20201025T010000
END:STANDARD
BEGIN:DAYLIGHT
TZOFFSETFROM:+0100
TZOFFSETTO:+0200
TZNAME:CEST
DTSTART:20210328T010000
END:DAYLIGHT
BEGIN:STANDARD
TZOFFSETFROM:+0200
TZOFFSETTO:+0100
TZNAME:CET
DTSTART:20211031T010000
END:STANDARD
BEGIN:DAYLIGHT
TZOFFSETFROM:+0100
TZOFFSETTO:+0200
TZNAME:CEST
DTSTART:20220327T010000
END:DAYLIGHT
BEGIN:STANDARD
TZOFFSETFROM:+0200
TZOFFSETTO:+0100
TZNAME:CET
DTSTART:20221030T010000
END:STANDARD
END:VTIMEZONE
BEGIN:VEVENT
DTSTART;TZID=Europe/Paris:20210521T120000
DTEND;TZID=Europe/Paris:20210521T130000
DTSTAMP:20260422T022559
CREATED:20210505T133848Z
LAST-MODIFIED:20220111T095938Z
UID:9870-1621598400-1621602000@www.ilcb.fr
SUMMARY:From prelinguistic communication to word use in typically hearing and deaf infants
DESCRIPTION:Danielle Matthews (Department of psychology\, The University of Sheffield) \n\nAround the end of the first year infants make the transition from prelinguistic communication (babble\, gesture\, eye contact) to word use. I will present a series of studies that have  1) measured individual differences that predict this transition  2)  tested experimentally if it is possible to promote learning and 3) compared deaf and hearing infants. Together these studies reveal the important role of the social environment in learning to talk.\n\n\nYou can import this shared google calendar to your own calendar for details about our next meetings and speakers.\nThe zoom link:\n\n\nhttps://univ-amu-fr.zoom.us/j/2515421853?pwd=elpEeVhxRTV5b01rZGUxaWY4Qy9ZQT09
URL:https://www.ilcb.fr/event/tba/
CATEGORIES:CoCoDev
END:VEVENT
END:VCALENDAR