BEGIN:VCALENDAR
VERSION:2.0
PRODID:-//ILCB - ECPv6.15.20//NONSGML v1.0//EN
CALSCALE:GREGORIAN
METHOD:PUBLISH
X-WR-CALNAME:ILCB
X-ORIGINAL-URL:https://www.ilcb.fr
X-WR-CALDESC:Events for ILCB
REFRESH-INTERVAL;VALUE=DURATION:PT1H
X-Robots-Tag:noindex
X-PUBLISHED-TTL:PT1H
BEGIN:VTIMEZONE
TZID:Europe/Paris
BEGIN:DAYLIGHT
TZOFFSETFROM:+0100
TZOFFSETTO:+0200
TZNAME:CEST
DTSTART:20200329T010000
END:DAYLIGHT
BEGIN:STANDARD
TZOFFSETFROM:+0200
TZOFFSETTO:+0100
TZNAME:CET
DTSTART:20201025T010000
END:STANDARD
BEGIN:DAYLIGHT
TZOFFSETFROM:+0100
TZOFFSETTO:+0200
TZNAME:CEST
DTSTART:20210328T010000
END:DAYLIGHT
BEGIN:STANDARD
TZOFFSETFROM:+0200
TZOFFSETTO:+0100
TZNAME:CET
DTSTART:20211031T010000
END:STANDARD
BEGIN:DAYLIGHT
TZOFFSETFROM:+0100
TZOFFSETTO:+0200
TZNAME:CEST
DTSTART:20220327T010000
END:DAYLIGHT
BEGIN:STANDARD
TZOFFSETFROM:+0200
TZOFFSETTO:+0100
TZNAME:CET
DTSTART:20221030T010000
END:STANDARD
END:VTIMEZONE
BEGIN:VEVENT
DTSTART;TZID=Europe/Paris:20211126T120000
DTEND;TZID=Europe/Paris:20211126T143000
DTSTAMP:20260422T132213
CREATED:20210908T160000Z
LAST-MODIFIED:20211108T155443Z
UID:12472-1637928000-1637937000@www.ilcb.fr
SUMMARY:Aurélie Bidet-Caulet
DESCRIPTION:How does the human brain resist auditory distraction? \nOne main challenge for the attentive brain is to resist distracting information. Auditory distraction can result from predictable irrelevant information (e.g. ongoing background noise) or from unexpected\, transient and salient distracting events (e.g. phone ring\, fire alarm…). Using intracranial EEG\, scalp EEG and MEG data combined with behavioral measures\, we have investigated brain activities in the time and frequency domains to characterize the brain mechanisms involved in shielding from distraction\, in the healthy\, developing (children and ageing data)\, or dysfunctional (stroke or migraine patients) brain. I will present a first set of data showing that distinct inhibitory and facilitatory mechanisms support selective attention to reduce the impact of an irrelevant sound stream. Then\, I will present data showing that the impact of an unexpected salient environmental sound results from a balance between top-down and bottom-up mechanisms of attention.
URL:https://www.ilcb.fr/event/aurelie-bidet-caulet/
LOCATION:FRUMAM\, 3 place Victor Hugo\, Marseille\, 13001\, France
CATEGORIES:Lunch Talks
END:VEVENT
END:VCALENDAR