BEGIN:VCALENDAR
VERSION:2.0
PRODID:-//ILCB - ECPv6.15.20//NONSGML v1.0//EN
CALSCALE:GREGORIAN
METHOD:PUBLISH
X-WR-CALNAME:ILCB
X-ORIGINAL-URL:https://www.ilcb.fr
X-WR-CALDESC:Events for ILCB
REFRESH-INTERVAL;VALUE=DURATION:PT1H
X-Robots-Tag:noindex
X-PUBLISHED-TTL:PT1H
BEGIN:VTIMEZONE
TZID:Europe/Paris
BEGIN:DAYLIGHT
TZOFFSETFROM:+0100
TZOFFSETTO:+0200
TZNAME:CEST
DTSTART:20210328T010000
END:DAYLIGHT
BEGIN:STANDARD
TZOFFSETFROM:+0200
TZOFFSETTO:+0100
TZNAME:CET
DTSTART:20211031T010000
END:STANDARD
BEGIN:DAYLIGHT
TZOFFSETFROM:+0100
TZOFFSETTO:+0200
TZNAME:CEST
DTSTART:20220327T010000
END:DAYLIGHT
BEGIN:STANDARD
TZOFFSETFROM:+0200
TZOFFSETTO:+0100
TZNAME:CET
DTSTART:20221030T010000
END:STANDARD
BEGIN:DAYLIGHT
TZOFFSETFROM:+0100
TZOFFSETTO:+0200
TZNAME:CEST
DTSTART:20230326T010000
END:DAYLIGHT
BEGIN:STANDARD
TZOFFSETFROM:+0200
TZOFFSETTO:+0100
TZNAME:CET
DTSTART:20231029T010000
END:STANDARD
END:VTIMEZONE
BEGIN:VEVENT
DTSTART;TZID=Europe/Paris:20221007T120000
DTEND;TZID=Europe/Paris:20221007T130000
DTSTAMP:20260423T095535
CREATED:20220819T135236Z
LAST-MODIFIED:20220905T082807Z
UID:24030-1665144000-1665147600@www.ilcb.fr
SUMMARY:Language in the brain and algorithms.
DESCRIPTION:Jean-Rémi KING : Chercheur à l’Ecole Normale Supérieure de Paris et Meta AI. \nIt took less than five years for AI to revolutionize the field of natural language processing. Can the resulting algorithms help us understand this complex cognitive ability? Here\, we develop state-of-the-art language models and compare them to the adult human brain. To do so\, we are integrating large-scale datasets of magneto/electroencephalography\, functional magnetic resonance imaging\, and intracranial recordings while individuals read or listen to natural sentences. Our analyses demonstrate systematic similarities between AI models and the brain\, which allow us to (1) efficiently decode speech from brain activity and (2) delineate the location and temporal course of the hierarchy of language representations. Overall\, these studies show how the interface between AI and neuroscience sheds new light on the computations at the heart of human language.
URL:https://www.ilcb.fr/event/jean-remi-king-chercheur-a-lecole-normale-superieure-de-paris-et-meta-ai/
LOCATION:Salle des voûtes\, St Charles\, 3 place Victor Hugo\, Marseille\, 13001\, France
CATEGORIES:Lunch Talks
END:VEVENT
END:VCALENDAR