BEGIN:VCALENDAR
VERSION:2.0
PRODID:-//ILCB - ECPv6.15.20//NONSGML v1.0//EN
CALSCALE:GREGORIAN
METHOD:PUBLISH
X-WR-CALNAME:ILCB
X-ORIGINAL-URL:https://www.ilcb.fr
X-WR-CALDESC:Events for ILCB
REFRESH-INTERVAL;VALUE=DURATION:PT1H
X-Robots-Tag:noindex
X-PUBLISHED-TTL:PT1H
BEGIN:VTIMEZONE
TZID:Europe/Paris
BEGIN:DAYLIGHT
TZOFFSETFROM:+0100
TZOFFSETTO:+0200
TZNAME:CEST
DTSTART:20210328T010000
END:DAYLIGHT
BEGIN:STANDARD
TZOFFSETFROM:+0200
TZOFFSETTO:+0100
TZNAME:CET
DTSTART:20211031T010000
END:STANDARD
BEGIN:DAYLIGHT
TZOFFSETFROM:+0100
TZOFFSETTO:+0200
TZNAME:CEST
DTSTART:20220327T010000
END:DAYLIGHT
BEGIN:STANDARD
TZOFFSETFROM:+0200
TZOFFSETTO:+0100
TZNAME:CET
DTSTART:20221030T010000
END:STANDARD
BEGIN:DAYLIGHT
TZOFFSETFROM:+0100
TZOFFSETTO:+0200
TZNAME:CEST
DTSTART:20230326T010000
END:DAYLIGHT
BEGIN:STANDARD
TZOFFSETFROM:+0200
TZOFFSETTO:+0100
TZNAME:CET
DTSTART:20231029T010000
END:STANDARD
END:VTIMEZONE
BEGIN:VEVENT
DTSTART;TZID=Europe/Paris:20221118T120000
DTEND;TZID=Europe/Paris:20221118T130000
DTSTAMP:20260423T113421
CREATED:20220927T130920Z
LAST-MODIFIED:20221007T082814Z
UID:25570-1668772800-1668776400@www.ilcb.fr
SUMMARY:Typology of multilinguals' languages and its relation to brain and cognition
DESCRIPTION:Olga Kepinska : Universität Wien \nLearning and using additional languages has been time and again shown to be related to functional and structural changes to the brain. One aspect of multilingualism that has not been examined systematically so far is the typology of multilinguals’ languages: Do differences and similarities between languages multilinguals know contribute to the development of their cognition and brain? In this talk\, I will discuss a methodology for describing the continuum of multilingual language experience that accounts for typological distance. We applied it in two studies with groups with diverse language backgrounds. In the first\, we investigated n = 162 5-6-year-olds with various language backgrounds on a monolingual-to-quintilingual continuum. Overlaps in lexical distances between participants’ languages were found to be related to aspects of their dominant-language lexical knowledge and to brain activation patters during a dominant-language lexical task. In the second study\, we looked at typological distance at the level of phonology and its relation to brain structure. In particular\, we investigated how neuroanatomical indices describing the transverse temporal gyrus (TTG\, cortical structure housing early auditory cortex) were related to cross-linguistic phonological information of n = 136 adult participants exposed to between 1 to 7 languages. We found that language experience with phonologically distant languages was associated with cortical thickness of the second TTG. These results refine our understanding of the neural underpinnings of multilingual language experience and will be discussed in the larger context of genetic versus environmental influences on the brain. \n 
URL:https://www.ilcb.fr/event/olga-kepinska-phd%e2%80%a8/
LOCATION:B011 LPL\, 5 avenue Pasteur\, Aix-en-Provence\, 13100\, France
CATEGORIES:Lunch Talks
END:VEVENT
END:VCALENDAR