BEGIN:VCALENDAR
VERSION:2.0
PRODID:-//ILCB - ECPv6.15.20//NONSGML v1.0//EN
CALSCALE:GREGORIAN
METHOD:PUBLISH
X-ORIGINAL-URL:https://www.ilcb.fr
X-WR-CALDESC:Events for ILCB
REFRESH-INTERVAL;VALUE=DURATION:PT1H
X-Robots-Tag:noindex
X-PUBLISHED-TTL:PT1H
BEGIN:VTIMEZONE
TZID:Europe/Paris
BEGIN:DAYLIGHT
TZOFFSETFROM:+0100
TZOFFSETTO:+0200
TZNAME:CEST
DTSTART:20220327T010000
END:DAYLIGHT
BEGIN:STANDARD
TZOFFSETFROM:+0200
TZOFFSETTO:+0100
TZNAME:CET
DTSTART:20221030T010000
END:STANDARD
BEGIN:DAYLIGHT
TZOFFSETFROM:+0100
TZOFFSETTO:+0200
TZNAME:CEST
DTSTART:20230326T010000
END:DAYLIGHT
BEGIN:STANDARD
TZOFFSETFROM:+0200
TZOFFSETTO:+0100
TZNAME:CET
DTSTART:20231029T010000
END:STANDARD
BEGIN:DAYLIGHT
TZOFFSETFROM:+0100
TZOFFSETTO:+0200
TZNAME:CEST
DTSTART:20240331T010000
END:DAYLIGHT
BEGIN:STANDARD
TZOFFSETFROM:+0200
TZOFFSETTO:+0100
TZNAME:CET
DTSTART:20241027T010000
END:STANDARD
END:VTIMEZONE
BEGIN:VEVENT
DTSTART;VALUE=DATE:20231020
DTEND;VALUE=DATE:20231021
DTSTAMP:20260426T060050
CREATED:20230912T130125Z
LAST-MODIFIED:20230912T130125Z
UID:34000-1697760000-1697846399@www.ilcb.fr
SUMMARY:14th annual scientific day of the MRI-INT Center
DESCRIPTION:The MRI-INT Center in Marseille is organising its 14th annual scientific day on Friday\, October 20 at Cerimed\, on the medical school campus of La Timone\, Marseille. \nThis year’s theme is ‘Neuroimaging beyond the cortex’ and will be an awesome opportunity to discover various aspects of imaging the cerebellum\, the basal ganglia\, and the spinal cord. It will feature talks by international\, national\, and local experts in the field. \nIt will also be an opportunity for local postdocs and students to present their MRI neuroimaging work in a poster session\, whatever the brain region of interest. \nYou can access the program here : https://irmf.int.univ-amu.fr/en/annual-meetings/\nRegistration if free but mandatory : https://14th-day-mri-int.sciencesconf.org/\nIf you are interested\, please register as soon as possible : the number of places is limited. \nWe are looking forward to you participation to this event ! \nThe organizers : Elin Runnqvist\, Olivier Coulon\, Jean-Luc Anton\, Marie-Hélène Grosbras
URL:https://www.ilcb.fr/event/14th-annual-scientific-day-of-the-mri-int-center/
CATEGORIES:Conférences
END:VEVENT
END:VCALENDAR