BEGIN:VCALENDAR
VERSION:2.0
PRODID:-//ILCB - ECPv6.15.20//NONSGML v1.0//EN
CALSCALE:GREGORIAN
METHOD:PUBLISH
X-ORIGINAL-URL:https://www.ilcb.fr
X-WR-CALDESC:Events for ILCB
REFRESH-INTERVAL;VALUE=DURATION:PT1H
X-Robots-Tag:noindex
X-PUBLISHED-TTL:PT1H
BEGIN:VTIMEZONE
TZID:Europe/Paris
BEGIN:DAYLIGHT
TZOFFSETFROM:+0100
TZOFFSETTO:+0200
TZNAME:CEST
DTSTART:20230326T010000
END:DAYLIGHT
BEGIN:STANDARD
TZOFFSETFROM:+0200
TZOFFSETTO:+0100
TZNAME:CET
DTSTART:20231029T010000
END:STANDARD
BEGIN:DAYLIGHT
TZOFFSETFROM:+0100
TZOFFSETTO:+0200
TZNAME:CEST
DTSTART:20240331T010000
END:DAYLIGHT
BEGIN:STANDARD
TZOFFSETFROM:+0200
TZOFFSETTO:+0100
TZNAME:CET
DTSTART:20241027T010000
END:STANDARD
BEGIN:DAYLIGHT
TZOFFSETFROM:+0100
TZOFFSETTO:+0200
TZNAME:CEST
DTSTART:20250330T010000
END:DAYLIGHT
BEGIN:STANDARD
TZOFFSETFROM:+0200
TZOFFSETTO:+0100
TZNAME:CET
DTSTART:20251026T010000
END:STANDARD
END:VTIMEZONE
BEGIN:VEVENT
DTSTART;VALUE=DATE:20240610
DTEND;VALUE=DATE:20240613
DTSTAMP:20260425T155054
CREATED:20231108T155347Z
LAST-MODIFIED:20231108T155347Z
UID:34258-1717977600-1718236799@www.ilcb.fr
SUMMARY:Conference on Multilingualism
DESCRIPTION:The Conference on Multilingualism (COM) 2024 will be held from June 10th to 12th at ”Le Cube” on the campus of Aix-Marseille Université\, in the beautiful city of Aix-en-Provence. It is an annual international venue for research on bilingualism and multilingualism and follows recent COM meetings\, held in Ghent\, Leiden\, Reading and most recently Konstanz. \nAbstracts will be accepted from a wide range of topics involving the study of bilingualism or multilingualism\, from education to neuroscience. \nSubmissions : \nWe look forward to seeing you in Aix! \nFor more information visit our website:\nhttps://multilingualism.sciencesconf.org/ \n______________ \nAdministrative support: Nadéra Bureau \nLocal Organizing committee: \nF.-Xavier Alario\, Elin Runnqvist\, Núria Gala\, Kristof Strijkers\,  Marco Cappellini\, Cheryl Frenck-Mestre\, Clément François \n  \nScientific committee: \nIan Cunnings (University of Reading) \nCheryl Frenck-Mestre (Université Aix Marseille) \nRobert Hartsuiker (Gent University) \nNiels Schiller (University of Leiden) \nLudovica Serratrice (University of Reading)
URL:https://www.ilcb.fr/event/conference-on-multilingualism/
CATEGORIES:Conférences
END:VEVENT
END:VCALENDAR