BEGIN:VCALENDAR
VERSION:2.0
PRODID:-//ILCB - ECPv6.15.20//NONSGML v1.0//EN
CALSCALE:GREGORIAN
METHOD:PUBLISH
X-ORIGINAL-URL:https://www.ilcb.fr
X-WR-CALDESC:Events for ILCB
REFRESH-INTERVAL;VALUE=DURATION:PT1H
X-Robots-Tag:noindex
X-PUBLISHED-TTL:PT1H
BEGIN:VTIMEZONE
TZID:Europe/Paris
BEGIN:DAYLIGHT
TZOFFSETFROM:+0100
TZOFFSETTO:+0200
TZNAME:CEST
DTSTART:20200329T010000
END:DAYLIGHT
BEGIN:STANDARD
TZOFFSETFROM:+0200
TZOFFSETTO:+0100
TZNAME:CET
DTSTART:20201025T010000
END:STANDARD
BEGIN:DAYLIGHT
TZOFFSETFROM:+0100
TZOFFSETTO:+0200
TZNAME:CEST
DTSTART:20210328T010000
END:DAYLIGHT
BEGIN:STANDARD
TZOFFSETFROM:+0200
TZOFFSETTO:+0100
TZNAME:CET
DTSTART:20211031T010000
END:STANDARD
BEGIN:DAYLIGHT
TZOFFSETFROM:+0100
TZOFFSETTO:+0200
TZNAME:CEST
DTSTART:20220327T010000
END:DAYLIGHT
BEGIN:STANDARD
TZOFFSETFROM:+0200
TZOFFSETTO:+0100
TZNAME:CET
DTSTART:20221030T010000
END:STANDARD
END:VTIMEZONE
BEGIN:VEVENT
DTSTART;TZID=Europe/Paris:20210129T130000
DTEND;TZID=Europe/Paris:20210129T160000
DTSTAMP:20260420T222600
CREATED:20210125T080348Z
LAST-MODIFIED:20210125T080355Z
UID:6573-1611925200-1611936000@www.ilcb.fr
SUMMARY:Restitution projet étudiant.e.s MASCO 29 janvier
DESCRIPTION:L’équipe de l’UE ingénierie cognitive : \nL’UE ingénierie cognitive du Masco a changé de forme. Depuis la deuxième semaine de janvier\, les étudiant.e.s  et l’équipe du CREx travaillent sur un projet collaboratif impliquant l’analyse des tâches et l’organisation du développement d’un système. Les étudiants devront mettre en œuvre leurs connaissances sur des sujets proposés comme par exemple : \n– la mesure du rythme cérébral et extractions des fréquences référencées (alpha\, beta\,…) \n– le degrés de synchronie entre deux « inter actants » en mesurant extrayant des signaux physio (ECG\, EEG) \n– Une approche Art et NeuroPhysio\, mesurer l’effet du rythme (stimulation visuelle ou auditive) sur les signaux physio ou au contraire « sonifier » ou visualiser les variations des signaux cérébraux et physio \n– Mind control d’un mobile \n– La BCI \n  \nLe 29 janvier 2021 nous organisons la restitution du travail (examen) des étudiants à la salle des voûtes (Saint Charles) de 13 h 30 à 16 h (programme :  : https://filez.univ-amu.fr/q16ooumqhq). Le lien vers la retransmission de cet évènement est à la fin du mail. \nPour débuter cette séance de restitution\, nous aurons le plaisir d’accueillir\, en visio\, Camille Jeunet qui présentera une partie de ses travaux sur l’imagerie Mentale ainsi que sur l’utilisation de la BCI (Brain Control Imagerie) associée à la réalité virtuelle. Cette présentation sera suivie de la restitution par les M2 MASCO de leur projet développé pendant l’UE Ingénieur Cogniticien. Ces projets autour de casques EEG OpenBCI ont été développés par groupe de 4 à 6 étudiant-e-s. \nParticiper à la réunion Zoom\nhttps://univ-amu-fr.zoom.us/j/93929390495?pwd=RzBSOENrWkh0Tk1xNkJQT2JlNWE2QT09 \nID de réunion : 939 2939 0495\nCode secret : 290121 \n 
URL:https://www.ilcb.fr/event/restitution-projet-etudiant-e-s-masco-29-janvier/
CATEGORIES:CREx
END:VEVENT
END:VCALENDAR