BEGIN:VCALENDAR
VERSION:2.0
PRODID:-//ILCB - ECPv6.15.20//NONSGML v1.0//EN
CALSCALE:GREGORIAN
METHOD:PUBLISH
X-ORIGINAL-URL:https://www.ilcb.fr
X-WR-CALDESC:Events for ILCB
REFRESH-INTERVAL;VALUE=DURATION:PT1H
X-Robots-Tag:noindex
X-PUBLISHED-TTL:PT1H
BEGIN:VTIMEZONE
TZID:Europe/Paris
BEGIN:DAYLIGHT
TZOFFSETFROM:+0100
TZOFFSETTO:+0200
TZNAME:CEST
DTSTART:20170326T010000
END:DAYLIGHT
BEGIN:STANDARD
TZOFFSETFROM:+0200
TZOFFSETTO:+0100
TZNAME:CET
DTSTART:20171029T010000
END:STANDARD
BEGIN:DAYLIGHT
TZOFFSETFROM:+0100
TZOFFSETTO:+0200
TZNAME:CEST
DTSTART:20180325T010000
END:DAYLIGHT
BEGIN:STANDARD
TZOFFSETFROM:+0200
TZOFFSETTO:+0100
TZNAME:CET
DTSTART:20181028T010000
END:STANDARD
BEGIN:DAYLIGHT
TZOFFSETFROM:+0100
TZOFFSETTO:+0200
TZNAME:CEST
DTSTART:20190331T010000
END:DAYLIGHT
BEGIN:STANDARD
TZOFFSETFROM:+0200
TZOFFSETTO:+0100
TZNAME:CET
DTSTART:20191027T010000
END:STANDARD
END:VTIMEZONE
BEGIN:VEVENT
DTSTART;TZID=Europe/Paris:20180130T120000
DTEND;TZID=Europe/Paris:20180130T140000
DTSTAMP:20260420T095814
CREATED:20180808T095301Z
LAST-MODIFIED:20200430T152926Z
UID:526-1517313600-1517320800@www.ilcb.fr
SUMMARY:Dendrophilia and the Biology of Language by Tecumseh Fitch
DESCRIPTION:Dendrophilia and the Biology of Language : Phonological Continuity and Syntactic Discontinuity by Tecumseh Fitch (Dept. of Cognitive Biology\, Faculty of Life Science – University of Vienna)\nAn understanding of both the neural mechanisms involved in language\, and their evolutionary history\, requires incisive comparisons between humans and nonhuman animals. Ideally\, such comparisons are grounded in an explicit\, computational framework encompassing both formal and neural components. I review work comparing humans with nonhuman primates\, other mammals\, and birds carried out in the last decades\, much of it using artificial grammar learning to explore the perception of phonology and syntax. This research suggests the following two hypotheses: First\, the phonological continuity hypothesis holds that sequential processing of syllables is supported by equivalent\, homologous mechanisms in humans and other animals. This set of mechanisms allows combination via concatenation\, and supports sequential processing at the finite-state (regular) computational level. Second\, the dendrophilia hypothesis suggests that humans are unusual in our ability to process complex hierarchical structures in multiple domains (language\, music\, etc). These hierarchical abilities require computational power at the supra-regular level (above finite state)\, and supports the abstract structures needed for phrasal syntax and semantics. I propose that these general hierarchical abilities are supported neurally by the great enlargement of Broca’s area in our species\, and the broadening of its connections to most of the parietal and temporal lobes. Broca’s region in humans acts as a domain-general “stack”\, an auxiliary memory supporting supra-regular computation in both language and music. \nTecumseh Fitch
URL:https://www.ilcb.fr/event/ilcb-lunch-talk-by-tecumseh-fitch/
LOCATION:Amphithéâtre de CERIMED\, 27 Boulevard Jean Moulin\, Marseille\, 13005
CATEGORIES:Lunch Talks
END:VEVENT
END:VCALENDAR