BEGIN:VCALENDAR
VERSION:2.0
PRODID:-//ILCB - ECPv6.15.20//NONSGML v1.0//EN
CALSCALE:GREGORIAN
METHOD:PUBLISH
X-WR-CALNAME:ILCB
X-ORIGINAL-URL:https://www.ilcb.fr
X-WR-CALDESC:Events for ILCB
REFRESH-INTERVAL;VALUE=DURATION:PT1H
X-Robots-Tag:noindex
X-PUBLISHED-TTL:PT1H
BEGIN:VTIMEZONE
TZID:Europe/Paris
BEGIN:DAYLIGHT
TZOFFSETFROM:+0100
TZOFFSETTO:+0200
TZNAME:CEST
DTSTART:20170326T010000
END:DAYLIGHT
BEGIN:STANDARD
TZOFFSETFROM:+0200
TZOFFSETTO:+0100
TZNAME:CET
DTSTART:20171029T010000
END:STANDARD
BEGIN:DAYLIGHT
TZOFFSETFROM:+0100
TZOFFSETTO:+0200
TZNAME:CEST
DTSTART:20180325T010000
END:DAYLIGHT
BEGIN:STANDARD
TZOFFSETFROM:+0200
TZOFFSETTO:+0100
TZNAME:CET
DTSTART:20181028T010000
END:STANDARD
BEGIN:DAYLIGHT
TZOFFSETFROM:+0100
TZOFFSETTO:+0200
TZNAME:CEST
DTSTART:20190331T010000
END:DAYLIGHT
BEGIN:STANDARD
TZOFFSETFROM:+0200
TZOFFSETTO:+0100
TZNAME:CET
DTSTART:20191027T010000
END:STANDARD
END:VTIMEZONE
BEGIN:VEVENT
DTSTART;TZID=Europe/Paris:20180406T120000
DTEND;TZID=Europe/Paris:20180406T150000
DTSTAMP:20260420T043527
CREATED:20190212T161256Z
LAST-MODIFIED:20200430T152922Z
UID:2220-1523016000-1523026800@www.ilcb.fr
SUMMARY:The computational neuroanatomy of speech production in the context of a dual stream framework for language by Greg Hickok
DESCRIPTION:The computational neuroanatomy of speech production in the context of a dual stream framework for language by Greg Hickok (Dept. Cognitive Sciences & Language Science – University of California Irvine) \nThe dual stream framework for the cortical organization of language is grounded in evolutionary biology in that it proposes an organization that is homologous to that found in non-linguistic sensorimotor systems from which it is hypothesized to have evolved. While it was controversial when first proposed in the early 2000s\, a substantial body of evidence now supports the basic claims. Significant progress has been made in working out the functional anatomy of the model\, particularly the dorsal auditory-motor pathway\, which will be the primary focus of this talk. I will provide a brief overview of the dual stream framework\, show how well-established psycholinguistic models of speech production are neatly relatable to it\, and then detail a decade of progress in understanding the neuroanatomy and some computational details of dorsal stream function. A major conclusion is that the integration of psycholinguistic and motor control models of speech production represents a promising new direction for research on the neurobiology of speech and language progressing\, including its evolutionary origins.
URL:https://www.ilcb.fr/event/ilcb-lunch-talk-by-greg-hickok/
LOCATION:Salle des voûtes\, St Charles\, 3 place Victor Hugo\, Marseille\, 13001\, France
CATEGORIES:Lunch Talks
END:VEVENT
END:VCALENDAR