BEGIN:VCALENDAR
VERSION:2.0
PRODID:-//ILCB - ECPv6.15.20//NONSGML v1.0//EN
CALSCALE:GREGORIAN
METHOD:PUBLISH
X-WR-CALNAME:ILCB
X-ORIGINAL-URL:https://www.ilcb.fr
X-WR-CALDESC:Events for ILCB
REFRESH-INTERVAL;VALUE=DURATION:PT1H
X-Robots-Tag:noindex
X-PUBLISHED-TTL:PT1H
BEGIN:VTIMEZONE
TZID:Europe/Paris
BEGIN:DAYLIGHT
TZOFFSETFROM:+0100
TZOFFSETTO:+0200
TZNAME:CEST
DTSTART:20170326T010000
END:DAYLIGHT
BEGIN:STANDARD
TZOFFSETFROM:+0200
TZOFFSETTO:+0100
TZNAME:CET
DTSTART:20171029T010000
END:STANDARD
BEGIN:DAYLIGHT
TZOFFSETFROM:+0100
TZOFFSETTO:+0200
TZNAME:CEST
DTSTART:20180325T010000
END:DAYLIGHT
BEGIN:STANDARD
TZOFFSETFROM:+0200
TZOFFSETTO:+0100
TZNAME:CET
DTSTART:20181028T010000
END:STANDARD
BEGIN:DAYLIGHT
TZOFFSETFROM:+0100
TZOFFSETTO:+0200
TZNAME:CEST
DTSTART:20190331T010000
END:DAYLIGHT
BEGIN:STANDARD
TZOFFSETFROM:+0200
TZOFFSETTO:+0100
TZNAME:CET
DTSTART:20191027T010000
END:STANDARD
END:VTIMEZONE
BEGIN:VEVENT
DTSTART;TZID=Europe/Paris:20181012T120000
DTEND;TZID=Europe/Paris:20181012T140000
DTSTAMP:20260419T195224
CREATED:20190212T153831Z
LAST-MODIFIED:20200430T152843Z
UID:2211-1539345600-1539352800@www.ilcb.fr
SUMMARY:Aligning ears and mouths: the consequences of synchronizing heard and spoken language by David Poeppel
DESCRIPTION:12h Prof. David Poeppel\, Max-Planck-Institute Frankfurt &New York University\n•	13h Lunch\n•	Confirm attendance (mandatory) by sending an email to lunchtalks@ilcb.fr\n\n\nAligning ears and mouths: the consequences of synchronizing heard and spoken language\n\n\nThe brain has rhythms\, and so does speech. It is a fortuitous outcome of recent research that the temporal structure of speech and the temporal organization of various brain structures align in systematic ways. \n(One might ask\, of course: how could it have been otherwise?) \nThe role that oscillatory activity might play in perception and cognition continues to be elucidated through experiments of various types. \nAn empirical observation that is now well established is that the auditory system reliably ‘entrains’ to the temporal modulations of speech - although the underlying mechanisms and the functional relevance remain vigorously debated. \nHere I address the question of whether these widely discussed phenomena extend to the relation between perception and action. \nHow motor systems and perceptual systems interact has been a foundational question in psychology and neuroscience\, and on the basis of new behavioral and neural experiments on sensorimotor synchronization\, \nI will argue against my own previous positions and demonstrate an unanticipated and compelling role for synchronization of speech through the ears and speech through the mouth.
URL:https://www.ilcb.fr/event/ilcb-lunch-talk-jean-luc-nespoulous-professeur-emerite-en-sciences-du-langage-universite-de-toulouse-institut-universitaire-de-france/
LOCATION:Amphithéâtre de CERIMED\, 27 Boulevard Jean Moulin\, Marseille\, 13005
CATEGORIES:Lunch Talks
END:VEVENT
END:VCALENDAR