BEGIN:VCALENDAR
VERSION:2.0
PRODID:-//ILCB - ECPv6.15.20//NONSGML v1.0//EN
CALSCALE:GREGORIAN
METHOD:PUBLISH
X-ORIGINAL-URL:https://www.ilcb.fr
X-WR-CALDESC:Events for ILCB
REFRESH-INTERVAL;VALUE=DURATION:PT1H
X-Robots-Tag:noindex
X-PUBLISHED-TTL:PT1H
BEGIN:VTIMEZONE
TZID:Europe/Paris
BEGIN:DAYLIGHT
TZOFFSETFROM:+0100
TZOFFSETTO:+0200
TZNAME:CEST
DTSTART:20170326T010000
END:DAYLIGHT
BEGIN:STANDARD
TZOFFSETFROM:+0200
TZOFFSETTO:+0100
TZNAME:CET
DTSTART:20171029T010000
END:STANDARD
BEGIN:DAYLIGHT
TZOFFSETFROM:+0100
TZOFFSETTO:+0200
TZNAME:CEST
DTSTART:20180325T010000
END:DAYLIGHT
BEGIN:STANDARD
TZOFFSETFROM:+0200
TZOFFSETTO:+0100
TZNAME:CET
DTSTART:20181028T010000
END:STANDARD
BEGIN:DAYLIGHT
TZOFFSETFROM:+0100
TZOFFSETTO:+0200
TZNAME:CEST
DTSTART:20190331T010000
END:DAYLIGHT
BEGIN:STANDARD
TZOFFSETFROM:+0200
TZOFFSETTO:+0100
TZNAME:CET
DTSTART:20191027T010000
END:STANDARD
END:VTIMEZONE
BEGIN:VEVENT
DTSTART;TZID=Europe/Paris:20181208T120000
DTEND;TZID=Europe/Paris:20181208T150000
DTSTAMP:20260419T164816
CREATED:20190212T161538Z
LAST-MODIFIED:20200430T152835Z
UID:2222-1544270400-1544281200@www.ilcb.fr
SUMMARY:Information-oriented and cross-language aspects on speech and cortical rhythms by François Pellegrino
DESCRIPTION:Information-oriented and cross-language aspects on speech and cortical rhythms by François Pellegrino (CNRS & Université de Lyon\, Dynamics of Language Lab UMR5596) \nDuring the last two decades a growing body of evidence has shown a close relationship between temporal structure of speech and neural oscillatory activities\, especially in the theta and gamma bands. More specifically\, several recent models suggest that the neural capacity to track speech dynamics and rhythmic patterns is crucial for speech processing and understanding. However\, it is well known that speech periodicity is limited and thus that the story is probably more complex than acknowledged previously.\nIn this talk I present results of a cross-language comparison of 17 languages in terms of syllabic speech rate\, Shannonian information rate and of their shared tendency to very unevenly distribute information among their segments and syllables. These results are discussed in the light of cortical rhythms in the theta band and I introduce a (very) speculative hypothesis stating that there may be a functional distinction between syllables whose role is to convey information and syllables whose role is to provide a rhythmic carrier entraining neural oscillations.
URL:https://www.ilcb.fr/event/ilcb-lunch-talk-by-tecumseh-fitch-2/
LOCATION:Salle des voûtes\, St Charles\, 3 place Victor Hugo\, Marseille\, 13001\, France
CATEGORIES:Lunch Talks
END:VEVENT
END:VCALENDAR