BEGIN:VCALENDAR
VERSION:2.0
PRODID:-//ILCB - ECPv6.15.20//NONSGML v1.0//EN
CALSCALE:GREGORIAN
METHOD:PUBLISH
X-WR-CALNAME:ILCB
X-ORIGINAL-URL:https://www.ilcb.fr
X-WR-CALDESC:Events for ILCB
REFRESH-INTERVAL;VALUE=DURATION:PT1H
X-Robots-Tag:noindex
X-PUBLISHED-TTL:PT1H
BEGIN:VTIMEZONE
TZID:Europe/Paris
BEGIN:DAYLIGHT
TZOFFSETFROM:+0100
TZOFFSETTO:+0200
TZNAME:CEST
DTSTART:20120325T010000
END:DAYLIGHT
BEGIN:STANDARD
TZOFFSETFROM:+0200
TZOFFSETTO:+0100
TZNAME:CET
DTSTART:20121028T010000
END:STANDARD
BEGIN:DAYLIGHT
TZOFFSETFROM:+0100
TZOFFSETTO:+0200
TZNAME:CEST
DTSTART:20130331T010000
END:DAYLIGHT
BEGIN:STANDARD
TZOFFSETFROM:+0200
TZOFFSETTO:+0100
TZNAME:CET
DTSTART:20131027T010000
END:STANDARD
BEGIN:DAYLIGHT
TZOFFSETFROM:+0100
TZOFFSETTO:+0200
TZNAME:CEST
DTSTART:20140330T010000
END:DAYLIGHT
BEGIN:STANDARD
TZOFFSETFROM:+0200
TZOFFSETTO:+0100
TZNAME:CET
DTSTART:20141026T010000
END:STANDARD
END:VTIMEZONE
BEGIN:VEVENT
DTSTART;VALUE=DATE:20130906
DTEND;VALUE=DATE:20130907
DTSTAMP:20260426T000651
CREATED:20190213T082422Z
LAST-MODIFIED:20190213T082424Z
UID:2327-1378425600-1378511999@www.ilcb.fr
SUMMARY:What Freud got right about speech errors by Gary S. Dell
DESCRIPTION:What Freud got right about speech errors by Gary S. Dell (University of Illinois\, Urbana-Champaign\, USA)\nMost people associate Sigmund Freud with the assertion that speech errors reveal repressed thoughts\, a claim that does not have a great deal of support. I will mention some other things that Freud said about slips\, showing that these\, in contrast to the repression notion\, do fit well with some modern theories of language production. I will illustrate using the interactive two-step theory of lexical access during production\, which we have used to understand aspects of aphasic speech error patterns
URL:https://www.ilcb.fr/event/what-freud-got-right-about-speech-errors-by-gary-s-dell/
LOCATION:Salle des voûtes\, St Charles\, 3 place Victor Hugo\, Marseille\, 13001\, France
CATEGORIES:Seminars
END:VEVENT
BEGIN:VEVENT
DTSTART;TZID=Europe/Paris:20130906T110000
DTEND;TZID=Europe/Paris:20130906T123000
DTSTAMP:20260426T000651
CREATED:20190213T082615Z
LAST-MODIFIED:20190213T082618Z
UID:2329-1378465200-1378470600@www.ilcb.fr
SUMMARY:Social meaning and speech perception by Benjamin Munson
DESCRIPTION:Social meaning and speech perception by Benjamin Munson (University of Minnesota\, Etats-Unis)\nIt is well established that listeners may categorize ambiguous sounds differently when they are led to believe something about the person who produced them\, such as their age\, social class\, gender\, or regional background (Hay\, Drager & Nolan\, 2006 ; McGowan 2011 ; Staum Casasanto 2008 ; Strand & Johnson 1996). This talk will review a set of studies designed to examine two aspects of this phenomenon. First\, are the effects different depending on the specific social meaning ascribed to the variation (i.e.\, what is it about gender that makes listeners change their categorizations when the speaker is suggested to be a man or a woman?). Second\, do these effects occur relatively early and automatically in processing\, or do they reflect ambiguity resolutions that occur relatively late in processing ?
URL:https://www.ilcb.fr/event/social-meaning-and-speech-perception-by-benjamin-munson/
LOCATION:Salle de conférences\, 5 avenue Pasteur\, Aix-en-Provence\, 13100\, France
CATEGORIES:Seminars
END:VEVENT
END:VCALENDAR