BEGIN:VCALENDAR
VERSION:2.0
PRODID:-//ILCB - ECPv6.15.20//NONSGML v1.0//EN
CALSCALE:GREGORIAN
METHOD:PUBLISH
X-ORIGINAL-URL:https://www.ilcb.fr
X-WR-CALDESC:Events for ILCB
REFRESH-INTERVAL;VALUE=DURATION:PT1H
X-Robots-Tag:noindex
X-PUBLISHED-TTL:PT1H
BEGIN:VTIMEZONE
TZID:Europe/Paris
BEGIN:DAYLIGHT
TZOFFSETFROM:+0100
TZOFFSETTO:+0200
TZNAME:CEST
DTSTART:20120325T010000
END:DAYLIGHT
BEGIN:STANDARD
TZOFFSETFROM:+0200
TZOFFSETTO:+0100
TZNAME:CET
DTSTART:20121028T010000
END:STANDARD
BEGIN:DAYLIGHT
TZOFFSETFROM:+0100
TZOFFSETTO:+0200
TZNAME:CEST
DTSTART:20130331T010000
END:DAYLIGHT
BEGIN:STANDARD
TZOFFSETFROM:+0200
TZOFFSETTO:+0100
TZNAME:CET
DTSTART:20131027T010000
END:STANDARD
BEGIN:DAYLIGHT
TZOFFSETFROM:+0100
TZOFFSETTO:+0200
TZNAME:CEST
DTSTART:20140330T010000
END:DAYLIGHT
BEGIN:STANDARD
TZOFFSETFROM:+0200
TZOFFSETTO:+0100
TZNAME:CET
DTSTART:20141026T010000
END:STANDARD
END:VTIMEZONE
BEGIN:VEVENT
DTSTART;TZID=Europe/Paris:20131025T110000
DTEND;TZID=Europe/Paris:20131025T120000
DTSTAMP:20260425T222659
CREATED:20190213T082247Z
LAST-MODIFIED:20190213T082250Z
UID:2325-1382698800-1382702400@www.ilcb.fr
SUMMARY:Vocalisations of Captive Guinea Baboons by Caralyn Kemp
DESCRIPTION:Vocalisations of Captive Guinea Baboons by Caralyn Kemp (Labex BLRI)\nAs part of a larger study investigating vocal production in Guinea baboons\, I have been examining the vocalisations of a captive group at the CNRS primate station in Rousset. The main goal of this aspect of the project was to produce a large-scale database in order to 1) characterise the vocal repertoire of this baboon species\, 2) determine the acoustic features of the vocalisations\, and 3) test the descriptive adequacy of existing categories. Twelve vocalisations were distinguishable by ear\, but not all vocalisations were produced by all age and sex groups. A single vocalisation type could occur in different contexts and some vocalisations had a large degree of variability. This database will be useful for new researchers and care staff who work with Guinea baboons in captivity as well as aiding in our understanding of the evolution of vocal communication between baboon taxa and within the primate genera.
URL:https://www.ilcb.fr/event/vocalisations-of-captive-guinea-baboons-by-caralyn-kemp/
LOCATION:Salle de conférences\, 5 avenue Pasteur\, Aix-en-Provence\, 13100\, France
CATEGORIES:Seminars
END:VEVENT
END:VCALENDAR