BEGIN:VCALENDAR
VERSION:2.0
PRODID:-//ILCB - ECPv6.15.20//NONSGML v1.0//EN
CALSCALE:GREGORIAN
METHOD:PUBLISH
X-WR-CALNAME:ILCB
X-ORIGINAL-URL:https://www.ilcb.fr
X-WR-CALDESC:Events for ILCB
REFRESH-INTERVAL;VALUE=DURATION:PT1H
X-Robots-Tag:noindex
X-PUBLISHED-TTL:PT1H
BEGIN:VTIMEZONE
TZID:Europe/Paris
BEGIN:DAYLIGHT
TZOFFSETFROM:+0100
TZOFFSETTO:+0200
TZNAME:CEST
DTSTART:20140330T010000
END:DAYLIGHT
BEGIN:STANDARD
TZOFFSETFROM:+0200
TZOFFSETTO:+0100
TZNAME:CET
DTSTART:20141026T010000
END:STANDARD
BEGIN:DAYLIGHT
TZOFFSETFROM:+0100
TZOFFSETTO:+0200
TZNAME:CEST
DTSTART:20150329T010000
END:DAYLIGHT
BEGIN:STANDARD
TZOFFSETFROM:+0200
TZOFFSETTO:+0100
TZNAME:CET
DTSTART:20151025T010000
END:STANDARD
BEGIN:DAYLIGHT
TZOFFSETFROM:+0100
TZOFFSETTO:+0200
TZNAME:CEST
DTSTART:20160327T010000
END:DAYLIGHT
BEGIN:STANDARD
TZOFFSETFROM:+0200
TZOFFSETTO:+0100
TZNAME:CET
DTSTART:20161030T010000
END:STANDARD
END:VTIMEZONE
BEGIN:VEVENT
DTSTART;VALUE=DATE:20150130
DTEND;VALUE=DATE:20150131
DTSTAMP:20260424T181117
CREATED:20190212T174645Z
LAST-MODIFIED:20190212T174648Z
UID:2287-1422576000-1422662399@www.ilcb.fr
SUMMARY:Do visual and attentional factors predict reading skills? by Veronica Montani
DESCRIPTION:Do visual and attentional factors predict reading skills? by Veronica Montani (BLRI\, AMU)\nVisual-attentional abilities have a prominent role in reading. Reading rate is constrained by the number of letters acquired at each fixation\, i.e. the visual span\, that in turn seems to be mainly determined by the effect of crowding. On the other hand\, spatial attention is critically involved in reading process\, in particular for the phonological decoding of unfamiliar strings. I will briefly review studies that investigated the role of low-level processing factors in reading and their possible implication in reading disorders. Furthermore\, I will present new data that show the distinct contribution of different visual-attentional factors on various reading measures\, such as text reading\, word naming and eye movements.
URL:https://www.ilcb.fr/event/do-visual-and-attentional-factors-predict-reading-skills-by-veronica-montani/
LOCATION:Salle des voûtes\, St Charles\, 3 place Victor Hugo\, Marseille\, 13001\, France
CATEGORIES:Seminars
END:VEVENT
END:VCALENDAR