BEGIN:VCALENDAR
VERSION:2.0
PRODID:-//ILCB - ECPv6.15.20//NONSGML v1.0//EN
CALSCALE:GREGORIAN
METHOD:PUBLISH
X-ORIGINAL-URL:https://www.ilcb.fr
X-WR-CALDESC:Events for ILCB
REFRESH-INTERVAL;VALUE=DURATION:PT1H
X-Robots-Tag:noindex
X-PUBLISHED-TTL:PT1H
BEGIN:VTIMEZONE
TZID:Europe/Paris
BEGIN:DAYLIGHT
TZOFFSETFROM:+0100
TZOFFSETTO:+0200
TZNAME:CEST
DTSTART:20140330T010000
END:DAYLIGHT
BEGIN:STANDARD
TZOFFSETFROM:+0200
TZOFFSETTO:+0100
TZNAME:CET
DTSTART:20141026T010000
END:STANDARD
BEGIN:DAYLIGHT
TZOFFSETFROM:+0100
TZOFFSETTO:+0200
TZNAME:CEST
DTSTART:20150329T010000
END:DAYLIGHT
BEGIN:STANDARD
TZOFFSETFROM:+0200
TZOFFSETTO:+0100
TZNAME:CET
DTSTART:20151025T010000
END:STANDARD
BEGIN:DAYLIGHT
TZOFFSETFROM:+0100
TZOFFSETTO:+0200
TZNAME:CEST
DTSTART:20160327T010000
END:DAYLIGHT
BEGIN:STANDARD
TZOFFSETFROM:+0200
TZOFFSETTO:+0100
TZNAME:CET
DTSTART:20161030T010000
END:STANDARD
END:VTIMEZONE
BEGIN:VEVENT
DTSTART;VALUE=DATE:20150513
DTEND;VALUE=DATE:20150514
DTSTAMP:20260424T113930
CREATED:20190212T174303Z
LAST-MODIFIED:20190212T174306Z
UID:2283-1431475200-1431561599@www.ilcb.fr
SUMMARY:Reverse engineering early language learning by Emmanuel Dupoux
DESCRIPTION:Reverse engineering early language learning by Emmanuel Dupoux by (Ecole des Hautes Etudes en Sciences Sociales\, Laboratoire de Sciences Cognitives et Psycholinguistique)\nDecades of research on early language acquisition have documented how infants quickly and robustly acquire their native tongue(s) across large variations in their input and environment. The mechanisms that enable such a feat remain\, however\, poorly understood. The proposition\, here\, is to supplement experimental investigations by a quantitative approach based on tools from machine learning and language technologies\, applied to corpora of infant directed input. I illustrate the power of this approach through a reanalysis of some previous claims made regarding the nature and function of Infant Directed as opposed to Adult Directed Speech (IDS vs ADS). I also revisit current ideas about the learning of phoneme categories\, a problem that has been long thought to involve only bottom-up statistical learning. In contrast\, I show that a bottom up strategy does not scale up to real speech input\, and that phoneme learning requires not only the joint learning of phoneme and word forms but also of prosodic and semantic representations. I discuss a global learning architecture where provisional linguistic representations are gradually learned in parallel\, and present some predictions for language learning in infants.\n 
URL:https://www.ilcb.fr/event/reverse-engineering-early-language-learning-by-emmanuel-dupoux/
CATEGORIES:Seminars
END:VEVENT
END:VCALENDAR