BEGIN:VCALENDAR
VERSION:2.0
PRODID:-//ILCB - ECPv6.15.20//NONSGML v1.0//EN
CALSCALE:GREGORIAN
METHOD:PUBLISH
X-WR-CALNAME:ILCB
X-ORIGINAL-URL:https://www.ilcb.fr
X-WR-CALDESC:Events for ILCB
REFRESH-INTERVAL;VALUE=DURATION:PT1H
X-Robots-Tag:noindex
X-PUBLISHED-TTL:PT1H
BEGIN:VTIMEZONE
TZID:Europe/Paris
BEGIN:DAYLIGHT
TZOFFSETFROM:+0100
TZOFFSETTO:+0200
TZNAME:CEST
DTSTART:20140330T010000
END:DAYLIGHT
BEGIN:STANDARD
TZOFFSETFROM:+0200
TZOFFSETTO:+0100
TZNAME:CET
DTSTART:20141026T010000
END:STANDARD
BEGIN:DAYLIGHT
TZOFFSETFROM:+0100
TZOFFSETTO:+0200
TZNAME:CEST
DTSTART:20150329T010000
END:DAYLIGHT
BEGIN:STANDARD
TZOFFSETFROM:+0200
TZOFFSETTO:+0100
TZNAME:CET
DTSTART:20151025T010000
END:STANDARD
BEGIN:DAYLIGHT
TZOFFSETFROM:+0100
TZOFFSETTO:+0200
TZNAME:CEST
DTSTART:20160327T010000
END:DAYLIGHT
BEGIN:STANDARD
TZOFFSETFROM:+0200
TZOFFSETTO:+0100
TZNAME:CET
DTSTART:20161030T010000
END:STANDARD
END:VTIMEZONE
BEGIN:VEVENT
DTSTART;VALUE=DATE:20151023
DTEND;VALUE=DATE:20151024
DTSTAMP:20260424T025645
CREATED:20190212T173750Z
LAST-MODIFIED:20190212T173753Z
UID:2277-1445558400-1445644799@www.ilcb.fr
SUMMARY:Apes\, Language and the Brain by Bill Hopkins
DESCRIPTION:Apes\, Language and the Brain by Bill Hopkins (Georgia State University)\nFor more than 150 years\, philosophers and scientist have pondered the uniqueness of human language with a particular fascination with the linguistic\, cognitive and neural capacities of great apes. A majority of the scientific work on this topic has come from so-called ""ape-language"" studies With the advent of modern imaging technologies\, the question of human language uniqueness can now be addressed from a neurological perspective. In this presentation\, I discuss the neurobiology of language from the standpoint of comparative studies on the evolution of Broca's and Werncicke's areas in primates\, notably chimpanzees.
URL:https://www.ilcb.fr/event/apes-language-and-the-brain-by-bill-hopkins/
LOCATION:Salle des voûtes\, St Charles\, 3 place Victor Hugo\, Marseille\, 13001\, France
CATEGORIES:Seminars
END:VEVENT
END:VCALENDAR