BEGIN:VCALENDAR
VERSION:2.0
PRODID:-//ILCB - ECPv6.15.20//NONSGML v1.0//EN
CALSCALE:GREGORIAN
METHOD:PUBLISH
X-ORIGINAL-URL:https://www.ilcb.fr
X-WR-CALDESC:Events for ILCB
REFRESH-INTERVAL;VALUE=DURATION:PT1H
X-Robots-Tag:noindex
X-PUBLISHED-TTL:PT1H
BEGIN:VTIMEZONE
TZID:Europe/Paris
BEGIN:DAYLIGHT
TZOFFSETFROM:+0100
TZOFFSETTO:+0200
TZNAME:CEST
DTSTART:20160327T010000
END:DAYLIGHT
BEGIN:STANDARD
TZOFFSETFROM:+0200
TZOFFSETTO:+0100
TZNAME:CET
DTSTART:20161030T010000
END:STANDARD
BEGIN:DAYLIGHT
TZOFFSETFROM:+0100
TZOFFSETTO:+0200
TZNAME:CEST
DTSTART:20170326T010000
END:DAYLIGHT
BEGIN:STANDARD
TZOFFSETFROM:+0200
TZOFFSETTO:+0100
TZNAME:CET
DTSTART:20171029T010000
END:STANDARD
BEGIN:DAYLIGHT
TZOFFSETFROM:+0100
TZOFFSETTO:+0200
TZNAME:CEST
DTSTART:20180325T010000
END:DAYLIGHT
BEGIN:STANDARD
TZOFFSETFROM:+0200
TZOFFSETTO:+0100
TZNAME:CET
DTSTART:20181028T010000
END:STANDARD
END:VTIMEZONE
BEGIN:VEVENT
DTSTART;TZID=Europe/Paris:20170123T143000
DTEND;TZID=Europe/Paris:20170123T160000
DTSTAMP:20260423T005537
CREATED:20190212T171429Z
LAST-MODIFIED:20190212T171432Z
UID:2257-1485181800-1485187200@www.ilcb.fr
SUMMARY:Learning new words: Implications for speech processing and for lexical memory by James M. McQueen
DESCRIPTION:Learning new words: Implications for speech processing and for lexical memory by James M. McQueen (Radboud University\, Nijmegen\, The Netherlands)\nlle et al.\, 2012; Schwartze & Kotz\, 2013). I will discuss new empirical and patient evidence (motor-auditory coupling and auditory only) in support of these considerations and present an extended cortico-subcortical framework encompassing action-perception coupling\, perception\, and multimodal speech.\nur\, Aix-en-Provence LPL\nListeners are able to recognise words in spite of considerable variation in how words are realized physically. For example\, Mary may need to recognise an English word spoken by Jacques\, a non-native speaker that Mary has never heard before. Evidence from behavioural (eye-tracking) and neuroscientific (EEG and fMRI) studies on novel word learning will be presented which suggests that listeners cope with the variation in spoken words through abstracting away from the episodic details of particular experienced word forms. This process can be seen in on-line speech recognition: the way a novel realization of a new word is processed is based on phonological knowledge previously abstracted from other words. The need for abstraction also shapes lexical memory: sleep-enhanced memory consolidation processes support the transfer of newly-learned words from episodic memory to long-term lexical memory\, making generalization across modalities possible. Listeners can recognise\, for example\, newly-learned words that they have previously read but that they have never heard before.
URL:https://www.ilcb.fr/event/learning-new-words-implications-for-speech-processing-and-for-lexical-memory-by-james-m-mcqueen/
LOCATION:Salle de conférences\, 5 avenue Pasteur\, Aix-en-Provence\, 13100\, France
CATEGORIES:Seminars
END:VEVENT
END:VCALENDAR