BEGIN:VCALENDAR
VERSION:2.0
PRODID:-//ILCB - ECPv6.15.20//NONSGML v1.0//EN
CALSCALE:GREGORIAN
METHOD:PUBLISH
X-ORIGINAL-URL:https://www.ilcb.fr
X-WR-CALDESC:Events for ILCB
REFRESH-INTERVAL;VALUE=DURATION:PT1H
X-Robots-Tag:noindex
X-PUBLISHED-TTL:PT1H
BEGIN:VTIMEZONE
TZID:Europe/Paris
BEGIN:DAYLIGHT
TZOFFSETFROM:+0100
TZOFFSETTO:+0200
TZNAME:CEST
DTSTART:20130331T010000
END:DAYLIGHT
BEGIN:STANDARD
TZOFFSETFROM:+0200
TZOFFSETTO:+0100
TZNAME:CET
DTSTART:20131027T010000
END:STANDARD
BEGIN:DAYLIGHT
TZOFFSETFROM:+0100
TZOFFSETTO:+0200
TZNAME:CEST
DTSTART:20140330T010000
END:DAYLIGHT
BEGIN:STANDARD
TZOFFSETFROM:+0200
TZOFFSETTO:+0100
TZNAME:CET
DTSTART:20141026T010000
END:STANDARD
BEGIN:DAYLIGHT
TZOFFSETFROM:+0100
TZOFFSETTO:+0200
TZNAME:CEST
DTSTART:20150329T010000
END:DAYLIGHT
BEGIN:STANDARD
TZOFFSETFROM:+0200
TZOFFSETTO:+0100
TZNAME:CET
DTSTART:20151025T010000
END:STANDARD
END:VTIMEZONE
BEGIN:VEVENT
DTSTART;TZID=Europe/Paris:20140213T110000
DTEND;TZID=Europe/Paris:20140213T170000
DTSTAMP:20260425T155227
CREATED:20190213T081019Z
LAST-MODIFIED:20190213T081049Z
UID:2311-1392289200-1392310800@www.ilcb.fr
SUMMARY:Sensorimotor processing of speech : brain inspired approaches to automatic speech recognition by Luciano Fadiga\, Alessandro D'Ausilio\, Leonardo Badino
DESCRIPTION:Sensorimotor processing of speech : brain inspired approaches to automatic speech recognition by Luciano Fadiga\, Alessandro D’Ausilio\, Leonardo Badino (University of ferrara\, Istituto Italiano Di Tecnologia à Gênes)
URL:https://www.ilcb.fr/event/sensorimotor-processing-of-speech-brain-inspired-approaches-to-automatic-speech-recognition-by-luciano-fadiga-alessandro-dausilio-leonardo-badino/
LOCATION:Salle de conférences\, 5 avenue Pasteur\, Aix-en-Provence\, 13100\, France
CATEGORIES:Seminars
END:VEVENT
END:VCALENDAR