BEGIN:VCALENDAR
VERSION:2.0
PRODID:-//ILCB - ECPv6.15.20//NONSGML v1.0//EN
CALSCALE:GREGORIAN
METHOD:PUBLISH
X-ORIGINAL-URL:https://www.ilcb.fr
X-WR-CALDESC:Events for ILCB
REFRESH-INTERVAL;VALUE=DURATION:PT1H
X-Robots-Tag:noindex
X-PUBLISHED-TTL:PT1H
BEGIN:VTIMEZONE
TZID:Europe/Paris
BEGIN:DAYLIGHT
TZOFFSETFROM:+0100
TZOFFSETTO:+0200
TZNAME:CEST
DTSTART:20130331T010000
END:DAYLIGHT
BEGIN:STANDARD
TZOFFSETFROM:+0200
TZOFFSETTO:+0100
TZNAME:CET
DTSTART:20131027T010000
END:STANDARD
BEGIN:DAYLIGHT
TZOFFSETFROM:+0100
TZOFFSETTO:+0200
TZNAME:CEST
DTSTART:20140330T010000
END:DAYLIGHT
BEGIN:STANDARD
TZOFFSETFROM:+0200
TZOFFSETTO:+0100
TZNAME:CET
DTSTART:20141026T010000
END:STANDARD
BEGIN:DAYLIGHT
TZOFFSETFROM:+0100
TZOFFSETTO:+0200
TZNAME:CEST
DTSTART:20150329T010000
END:DAYLIGHT
BEGIN:STANDARD
TZOFFSETFROM:+0200
TZOFFSETTO:+0100
TZNAME:CET
DTSTART:20151025T010000
END:STANDARD
END:VTIMEZONE
BEGIN:VEVENT
DTSTART;VALUE=DATE:20140704
DTEND;VALUE=DATE:20140705
DTSTAMP:20260425T053903
CREATED:20190212T180217Z
LAST-MODIFIED:20190212T180217Z
UID:2298-1404432000-1404518399@www.ilcb.fr
SUMMARY:The bilingual brain: Plasticity and processing from cradle to grave by Manuel Carreira
DESCRIPTION:The bilingual brain: Plasticity and processing from cradle to grave by Manuel Carreira (Basque Center on Cognition\, Brain and Language\, Donostia-San Sebastian\, Spain IKERBASQUE. Basque Foundation for Science. Bilbao. Spain)\nMost people either learn more than one language from birth or invest quite a lot of time and effort learning a second language. Bilingualism and second language learning is an interesting case for investigating cognitive and brain plasticity. In this talk I will describe behavioral and neuroimaging evidence on the cognitive and brain mechanisms adults and infants (monlinguals\, bilinguals and second language learners) use for processing language. In particular I will address whether proficient second language learners use similar or different brain mechanisms during processing and what are the neural consequences (structural and functional) of dealing with two languages.
URL:https://www.ilcb.fr/event/the-bilingual-brain-plasticity-and-processing-from-cradle-to-grave-by-manuel-carreira/
LOCATION:Salle des voûtes\, St Charles\, 3 place Victor Hugo\, Marseille\, 13001\, France
CATEGORIES:Seminars
END:VEVENT
END:VCALENDAR