BEGIN:VCALENDAR
VERSION:2.0
PRODID:-//ILCB - ECPv6.15.20//NONSGML v1.0//EN
CALSCALE:GREGORIAN
METHOD:PUBLISH
X-WR-CALNAME:ILCB
X-ORIGINAL-URL:https://www.ilcb.fr
X-WR-CALDESC:Events for ILCB
REFRESH-INTERVAL;VALUE=DURATION:PT1H
X-Robots-Tag:noindex
X-PUBLISHED-TTL:PT1H
BEGIN:VTIMEZONE
TZID:Europe/Paris
BEGIN:DAYLIGHT
TZOFFSETFROM:+0100
TZOFFSETTO:+0200
TZNAME:CEST
DTSTART:20130331T010000
END:DAYLIGHT
BEGIN:STANDARD
TZOFFSETFROM:+0200
TZOFFSETTO:+0100
TZNAME:CET
DTSTART:20131027T010000
END:STANDARD
BEGIN:DAYLIGHT
TZOFFSETFROM:+0100
TZOFFSETTO:+0200
TZNAME:CEST
DTSTART:20140330T010000
END:DAYLIGHT
BEGIN:STANDARD
TZOFFSETFROM:+0200
TZOFFSETTO:+0100
TZNAME:CET
DTSTART:20141026T010000
END:STANDARD
BEGIN:DAYLIGHT
TZOFFSETFROM:+0100
TZOFFSETTO:+0200
TZNAME:CEST
DTSTART:20150329T010000
END:DAYLIGHT
BEGIN:STANDARD
TZOFFSETFROM:+0200
TZOFFSETTO:+0100
TZNAME:CET
DTSTART:20151025T010000
END:STANDARD
END:VTIMEZONE
BEGIN:VEVENT
DTSTART;TZID=Europe/Paris:20140718T140000
DTEND;TZID=Europe/Paris:20140718T170000
DTSTAMP:20260425T053450
CREATED:20190212T175934Z
LAST-MODIFIED:20190212T175937Z
UID:2295-1405692000-1405702800@www.ilcb.fr
SUMMARY:Towards an Online Rhyming Dictionary for Mexican Spanish by Alfonso Medina
DESCRIPTION:Towards an Online Rhyming Dictionary for Mexican Spanish by Alfonso Medina\nRhyming dictionaries are a kind of reverse dictionaries. They group words according to rhyming patterns. Rhymes can share exact sequences of vowel and consonant sounds towards the end of a word (consonant rhyme) or just similar vowel sounds (assonant rhyme). Thus\, these dictionaries are based on pronunciation\, not on writing patterns. Also\, since consonance and assonance depend on the stressed syllable\, words which end with a stressed syllable are grouped together\, those whose stressed syllable is the next to last appear together\, and so on.\n\nIn addition\, word pronunciation may vary with time and across geographical and social dialects. In Spanish\, this is particularly clear when word loans (for instance\, Anglicisms and Galicisms) are considered. In fact\, they tend to keep their original writing\, at least in the Mexican variant which is the most spoken one. For example\, the following loan words\, common in Mexican Spanish\, rhyme: flash\, collage\, garage\, cottage\, squash. Their last syllable is stressed and they are ordered in reverse according to their sounds and not their letters: (respectively\, /fláʃ/\, /ko.láʃ/\, /ga.ráʃ/\, /ko.táʃ/ and /es.kwáʃ/).\n\nThe project described takes the current nomenclature of the Diccionario del español de México (http://dem.colmex.mx/) to generate automatically a rhyming dictionary. Also\, since the results of an online query to such a dictionary can be quite large\, a procedure was developed to rank them semantically. The idea is to measure the similarities of the query definition to each of the definitions of the rhyming words. These words are then ordered from highest to lowest similarity to the query.
URL:https://www.ilcb.fr/event/towards-an-online-rhyming-dictionary-for-mexican-spanish-by-alfonso-medina/
LOCATION:LIA\, chemin des Meinajariès\, Avignon\, 84911\, France
CATEGORIES:Seminars
END:VEVENT
END:VCALENDAR