BEGIN:VCALENDAR
VERSION:2.0
PRODID:-//ILCB - ECPv6.15.20//NONSGML v1.0//EN
CALSCALE:GREGORIAN
METHOD:PUBLISH
X-WR-CALNAME:ILCB
X-ORIGINAL-URL:https://www.ilcb.fr
X-WR-CALDESC:Events for ILCB
REFRESH-INTERVAL;VALUE=DURATION:PT1H
X-Robots-Tag:noindex
X-PUBLISHED-TTL:PT1H
BEGIN:VTIMEZONE
TZID:Europe/Paris
BEGIN:DAYLIGHT
TZOFFSETFROM:+0100
TZOFFSETTO:+0200
TZNAME:CEST
DTSTART:20140330T010000
END:DAYLIGHT
BEGIN:STANDARD
TZOFFSETFROM:+0200
TZOFFSETTO:+0100
TZNAME:CET
DTSTART:20141026T010000
END:STANDARD
BEGIN:DAYLIGHT
TZOFFSETFROM:+0100
TZOFFSETTO:+0200
TZNAME:CEST
DTSTART:20150329T010000
END:DAYLIGHT
BEGIN:STANDARD
TZOFFSETFROM:+0200
TZOFFSETTO:+0100
TZNAME:CET
DTSTART:20151025T010000
END:STANDARD
BEGIN:DAYLIGHT
TZOFFSETFROM:+0100
TZOFFSETTO:+0200
TZNAME:CEST
DTSTART:20160327T010000
END:DAYLIGHT
BEGIN:STANDARD
TZOFFSETFROM:+0200
TZOFFSETTO:+0100
TZNAME:CET
DTSTART:20161030T010000
END:STANDARD
END:VTIMEZONE
BEGIN:VEVENT
DTSTART;TZID=Europe/Paris:20151203T160000
DTEND;TZID=Europe/Paris:20151203T180000
DTSTAMP:20260424T064820
CREATED:20190212T174919Z
LAST-MODIFIED:20190212T174921Z
UID:2289-1449158400-1449165600@www.ilcb.fr
SUMMARY:How do central processes cascade into peripheral processes in written language production ? by Sonia Kandel
DESCRIPTION:How do central processes cascade into peripheral processes in written language production ? by Sonia Kandel (LPNC & Gipsa-Lab Grenoble (Univ. Grenoble Alpes\, CNRS))\nWith the arrival of internet\, tablets and smartphones many people spend more time writing than speaking (email\, chat\, SMS\, etc.). Despite the importance of writing in our society\, the studies investigating written language production are scarce. In addition\, most studies investigated written production either from a central point of view (i.e.\, spelling processing) or a peripheral approach (i.e.\, motor production) without questioning their relation. We believe\, instead\, that central and peripheral processing cannot be investigated independently. There is a functional interaction between spelling and motor processing. Letter production does not merely depend on its shape –and its specifications for stroke order and direction– but also on the way we encode it orthographically. For example\, the movements to produce letters PAR in the orthographically irregular word PARFUM (perfume) are different than in the regular word PARDON (pardon). Spelling processes cascade into motor production. The nature of the spelling processes that are activated before movement initiation will determine the way the cascade will operate during movement production. Lexical and sub-lexical processes do not spread into motor execution to the same extent.\n 
URL:https://www.ilcb.fr/event/how-do-central-processes-cascade-into-peripheral-processes-in-written-language-production-by-sonia-kandel/
LOCATION:Salle des voûtes\, St Charles\, 3 place Victor Hugo\, Marseille\, 13001\, France
CATEGORIES:Seminars
END:VEVENT
END:VCALENDAR