BEGIN:VCALENDAR
VERSION:2.0
PRODID:-//ILCB - ECPv6.15.20//NONSGML v1.0//EN
CALSCALE:GREGORIAN
METHOD:PUBLISH
X-ORIGINAL-URL:https://www.ilcb.fr
X-WR-CALDESC:Events for ILCB
REFRESH-INTERVAL;VALUE=DURATION:PT1H
X-Robots-Tag:noindex
X-PUBLISHED-TTL:PT1H
BEGIN:VTIMEZONE
TZID:Europe/Paris
BEGIN:DAYLIGHT
TZOFFSETFROM:+0100
TZOFFSETTO:+0200
TZNAME:CEST
DTSTART:20150329T010000
END:DAYLIGHT
BEGIN:STANDARD
TZOFFSETFROM:+0200
TZOFFSETTO:+0100
TZNAME:CET
DTSTART:20151025T010000
END:STANDARD
BEGIN:DAYLIGHT
TZOFFSETFROM:+0100
TZOFFSETTO:+0200
TZNAME:CEST
DTSTART:20160327T010000
END:DAYLIGHT
BEGIN:STANDARD
TZOFFSETFROM:+0200
TZOFFSETTO:+0100
TZNAME:CET
DTSTART:20161030T010000
END:STANDARD
BEGIN:DAYLIGHT
TZOFFSETFROM:+0100
TZOFFSETTO:+0200
TZNAME:CEST
DTSTART:20170326T010000
END:DAYLIGHT
BEGIN:STANDARD
TZOFFSETFROM:+0200
TZOFFSETTO:+0100
TZNAME:CET
DTSTART:20171029T010000
END:STANDARD
END:VTIMEZONE
BEGIN:VEVENT
DTSTART;TZID=Europe/Paris:20161209T110000
DTEND;TZID=Europe/Paris:20161209T130000
DTSTAMP:20260423T120138
CREATED:20190212T171652Z
LAST-MODIFIED:20190212T171654Z
UID:2259-1481281200-1481288400@www.ilcb.fr
SUMMARY:Figures of speech in the brain: The role of metaphoricity\, familiarity\, concreteness\, and lateralization in language comprehension by Bálint Forgács
DESCRIPTION:Figures of speech in the brain: The role of metaphoricity\, familiarity\, concreteness\, and lateralization in language comprehension by Bálint Forgács (Laboratoire Psychologie de la Perception (LPP) Université Paris Descartes)\nDebates are hot regarding how metaphors are related to literal language\, in what steps we understand them\, and how our brains deal with them. In my talk I am going to show fMRI and divided visual half field data arguing against a unique role for the right cerebral hemisphere and literal language in metaphor comprehension. If the relevant psycholinguistic factors are controlled for (such as context\, emotional valence or imageability) classical left lateralized regions seem to compute not just dead\, but even novel metaphors. Moreover\, the latter do not seem to evoke the so called electrophysiological concreteness effect either\, contrary to the claims of the strong version of embodiment. Based on the new evidence I am going to present a novel model of how the neural systems dedicated to language could compute figures of speech so swiftly and quickly\, and why the lateralization debate could be viewed from a different perspective.
URL:https://www.ilcb.fr/event/figures-of-speech-in-the-brain-the-role-of-metaphoricity-familiarity-concreteness-and-lateralization-in-language-comprehension-by-balint-forgacs/
LOCATION:Salle de conférences\, 5 avenue Pasteur\, Aix-en-Provence\, 13100\, France
CATEGORIES:Seminars
END:VEVENT
END:VCALENDAR