BEGIN:VCALENDAR
VERSION:2.0
PRODID:-//ILCB - ECPv6.15.20//NONSGML v1.0//EN
CALSCALE:GREGORIAN
METHOD:PUBLISH
X-ORIGINAL-URL:https://www.ilcb.fr
X-WR-CALDESC:Events for ILCB
REFRESH-INTERVAL;VALUE=DURATION:PT1H
X-Robots-Tag:noindex
X-PUBLISHED-TTL:PT1H
BEGIN:VTIMEZONE
TZID:Europe/Paris
BEGIN:DAYLIGHT
TZOFFSETFROM:+0100
TZOFFSETTO:+0200
TZNAME:CEST
DTSTART:20160327T010000
END:DAYLIGHT
BEGIN:STANDARD
TZOFFSETFROM:+0200
TZOFFSETTO:+0100
TZNAME:CET
DTSTART:20161030T010000
END:STANDARD
BEGIN:DAYLIGHT
TZOFFSETFROM:+0100
TZOFFSETTO:+0200
TZNAME:CEST
DTSTART:20170326T010000
END:DAYLIGHT
BEGIN:STANDARD
TZOFFSETFROM:+0200
TZOFFSETTO:+0100
TZNAME:CET
DTSTART:20171029T010000
END:STANDARD
BEGIN:DAYLIGHT
TZOFFSETFROM:+0100
TZOFFSETTO:+0200
TZNAME:CEST
DTSTART:20180325T010000
END:DAYLIGHT
BEGIN:STANDARD
TZOFFSETFROM:+0200
TZOFFSETTO:+0100
TZNAME:CET
DTSTART:20181028T010000
END:STANDARD
END:VTIMEZONE
BEGIN:VEVENT
DTSTART;TZID=Europe/Paris:20170428T140000
DTEND;TZID=Europe/Paris:20170428T170000
DTSTAMP:20260423T120755
CREATED:20190212T170541Z
LAST-MODIFIED:20190212T170543Z
UID:2251-1493388000-1493398800@www.ilcb.fr
SUMMARY:Music and Language comprehension in the brain – a surprising connection by Richard Kunert
DESCRIPTION:Music and Language comprehension in the brain – a surprising connection by Richard Kunert (Max Planck Institute for Psycholinguistics and Radboud University Nijmegen\, Donders Institute for Brain\, Cognition and Behavior\, Nijmegen)\nRiKunert@googlemail.com\n\n14h Salle des voûtes\,\nfac St Charles\, Pôle 3 C\nHow the comprehension of instrumental music and spoken or written language is implemented in the brain remains mysterious. \nIn this talk I present a new way to approach this issue. \nIn a series of studies we investigated music and language comprehension at the same time in order to gain insights into both. \nSpecifically\, we asked whether these two kinds of stimuli are subserved by common neural circuitry despite their obvious differences. \nIt turns out that structural properties of language and instrumental music are both processed in a common brain area. \nDoes this truly imply shared structural processing or is this just a general effect related to attention? \nIt turns out that the effects of music on attention are actually limited. \nOverall\, the findings I will present suggest that music and language processing share very limited\, and surprisingly specialized neural circuitry.\nOverall\, an interdisciplinary approach\, as applied here\, can open the way for asking ever more focused questions about brain organization.
URL:https://www.ilcb.fr/event/music-and-language-comprehension-in-the-brain-a-surprising-connection-by-richard-kunert/
LOCATION:Salle des voûtes\, St Charles\, 3 place Victor Hugo\, Marseille\, 13001\, France
CATEGORIES:Seminars
END:VEVENT
END:VCALENDAR