BEGIN:VCALENDAR
VERSION:2.0
PRODID:-//ILCB - ECPv6.15.20//NONSGML v1.0//EN
CALSCALE:GREGORIAN
METHOD:PUBLISH
X-WR-CALNAME:ILCB
X-ORIGINAL-URL:https://www.ilcb.fr
X-WR-CALDESC:Events for ILCB
REFRESH-INTERVAL;VALUE=DURATION:PT1H
X-Robots-Tag:noindex
X-PUBLISHED-TTL:PT1H
BEGIN:VTIMEZONE
TZID:Europe/Paris
BEGIN:DAYLIGHT
TZOFFSETFROM:+0100
TZOFFSETTO:+0200
TZNAME:CEST
DTSTART:20160327T010000
END:DAYLIGHT
BEGIN:STANDARD
TZOFFSETFROM:+0200
TZOFFSETTO:+0100
TZNAME:CET
DTSTART:20161030T010000
END:STANDARD
BEGIN:DAYLIGHT
TZOFFSETFROM:+0100
TZOFFSETTO:+0200
TZNAME:CEST
DTSTART:20170326T010000
END:DAYLIGHT
BEGIN:STANDARD
TZOFFSETFROM:+0200
TZOFFSETTO:+0100
TZNAME:CET
DTSTART:20171029T010000
END:STANDARD
BEGIN:DAYLIGHT
TZOFFSETFROM:+0100
TZOFFSETTO:+0200
TZNAME:CEST
DTSTART:20180325T010000
END:DAYLIGHT
BEGIN:STANDARD
TZOFFSETFROM:+0200
TZOFFSETTO:+0100
TZNAME:CET
DTSTART:20181028T010000
END:STANDARD
END:VTIMEZONE
BEGIN:VEVENT
DTSTART;TZID=Europe/Paris:20170509T173000
DTEND;TZID=Europe/Paris:20170509T190000
DTSTAMP:20260423T012201
CREATED:20190212T170302Z
LAST-MODIFIED:20190212T170305Z
UID:2249-1494351000-1494356400@www.ilcb.fr
SUMMARY:Discourse Prosody and Sentence Processing in Prelingually Deaf Teenagers with Cochlear Implants by Katherine Demuth
DESCRIPTION:Discourse Prosody and Sentence Processing in Prelingually Deaf Teenagers with Cochlear Implants by Katherine Demuth\n17h30 LPL\,\n\nThe past few years has seen major improvements in the early diagnosis of hearing loss\, early intervention\, and device improvements.  \nMuch of the assessment of language development has focussed on the early years\, \nwith assessment of hearing levels\, intelligibility\, vocabulary size\, \nand other standardized measure showing good to excellent attainment levels by many children fitted with both hearing aids and cochlear implants (CIs). \nHowever\, much less is known about the language abilities of school-aged children with hearing loss\, \nwhere many still experience challenges making themselves understood\, understanding others\, and fully engaging in social interaction. \nThis talk discusses results from two recent studies of discourse interactions and sentence processing by prelingually deaf teenage CI users\, \nshowing that they are less interactive\, exhibit a different use prosodic cues for certain discourse functions\, \nand are much slower at sentence processing than their normal hearing peers. \nThis raises many questions regarding the nature of their language model\, and how it might be enhanced to achieve more efficient language processing and production.
URL:https://www.ilcb.fr/event/discourse-prosody-and-sentence-processing-in-prelingually-deaf-teenagers-with-cochlear-implants-by-katherine-demuth/
LOCATION:Salle de conférences\, 5 avenue Pasteur\, Aix-en-Provence\, 13100\, France
CATEGORIES:Seminars
END:VEVENT
END:VCALENDAR