BEGIN:VCALENDAR
VERSION:2.0
PRODID:-//ILCB - ECPv6.15.20//NONSGML v1.0//EN
CALSCALE:GREGORIAN
METHOD:PUBLISH
X-ORIGINAL-URL:https://www.ilcb.fr
X-WR-CALDESC:Events for ILCB
REFRESH-INTERVAL;VALUE=DURATION:PT1H
X-Robots-Tag:noindex
X-PUBLISHED-TTL:PT1H
BEGIN:VTIMEZONE
TZID:Europe/Paris
BEGIN:DAYLIGHT
TZOFFSETFROM:+0100
TZOFFSETTO:+0200
TZNAME:CEST
DTSTART:20160327T010000
END:DAYLIGHT
BEGIN:STANDARD
TZOFFSETFROM:+0200
TZOFFSETTO:+0100
TZNAME:CET
DTSTART:20161030T010000
END:STANDARD
BEGIN:DAYLIGHT
TZOFFSETFROM:+0100
TZOFFSETTO:+0200
TZNAME:CEST
DTSTART:20170326T010000
END:DAYLIGHT
BEGIN:STANDARD
TZOFFSETFROM:+0200
TZOFFSETTO:+0100
TZNAME:CET
DTSTART:20171029T010000
END:STANDARD
BEGIN:DAYLIGHT
TZOFFSETFROM:+0100
TZOFFSETTO:+0200
TZNAME:CEST
DTSTART:20180325T010000
END:DAYLIGHT
BEGIN:STANDARD
TZOFFSETFROM:+0200
TZOFFSETTO:+0100
TZNAME:CET
DTSTART:20181028T010000
END:STANDARD
END:VTIMEZONE
BEGIN:VEVENT
DTSTART;TZID=Europe/Paris:20170706T140000
DTEND;TZID=Europe/Paris:20170706T160000
DTSTAMP:20260422T200229
CREATED:20190212T170008Z
LAST-MODIFIED:20190212T170010Z
UID:2247-1499349600-1499356800@www.ilcb.fr
SUMMARY:Deep learning models of perception and cognition by Marco Zorzi
DESCRIPTION:Deep learning models of perception and cognition by Marco Zorzi (University of Padova\, Italy)\nDeep learning in stochastic recurrent neural networks with many layers of neurons (“deep networks”) is a recent breakthrough in neural computation research. These networks build a hierarchy of progressively more complex representations of the sensory data through unsupervised learning. Using examples from research in my laboratory\, I will show that deep learning models represent a major step forward for connectionist modeling in psychology and cognitive neuroscience. I will also focus on a new model of letter perception\, which shows that learning written symbols can recycle the visual primitives of natural images\, thereby requiring only limited domain-specific tuning.
URL:https://www.ilcb.fr/event/deep-learning-models-of-perception-and-cognition-by-marco-zorzi/
LOCATION:Salle des voûtes\, St Charles\, 3 place Victor Hugo\, Marseille\, 13001\, France
CATEGORIES:Seminars
END:VEVENT
END:VCALENDAR