BEGIN:VCALENDAR
VERSION:2.0
PRODID:-//ILCB - ECPv6.15.20//NONSGML v1.0//EN
CALSCALE:GREGORIAN
METHOD:PUBLISH
X-WR-CALNAME:ILCB
X-ORIGINAL-URL:https://www.ilcb.fr
X-WR-CALDESC:Events for ILCB
REFRESH-INTERVAL;VALUE=DURATION:PT1H
X-Robots-Tag:noindex
X-PUBLISHED-TTL:PT1H
BEGIN:VTIMEZONE
TZID:Europe/Paris
BEGIN:DAYLIGHT
TZOFFSETFROM:+0100
TZOFFSETTO:+0200
TZNAME:CEST
DTSTART:20210328T010000
END:DAYLIGHT
BEGIN:STANDARD
TZOFFSETFROM:+0200
TZOFFSETTO:+0100
TZNAME:CET
DTSTART:20211031T010000
END:STANDARD
BEGIN:DAYLIGHT
TZOFFSETFROM:+0100
TZOFFSETTO:+0200
TZNAME:CEST
DTSTART:20220327T010000
END:DAYLIGHT
BEGIN:STANDARD
TZOFFSETFROM:+0200
TZOFFSETTO:+0100
TZNAME:CET
DTSTART:20221030T010000
END:STANDARD
BEGIN:DAYLIGHT
TZOFFSETFROM:+0100
TZOFFSETTO:+0200
TZNAME:CEST
DTSTART:20230326T010000
END:DAYLIGHT
BEGIN:STANDARD
TZOFFSETFROM:+0200
TZOFFSETTO:+0100
TZNAME:CET
DTSTART:20231029T010000
END:STANDARD
END:VTIMEZONE
BEGIN:VEVENT
DTSTART;TZID=Europe/Paris:20220411T080000
DTEND;TZID=Europe/Paris:20220415T170000
DTSTAMP:20260422T211702
CREATED:20220406T132007Z
LAST-MODIFIED:20220406T135552Z
UID:19210-1649664000-1650042000@www.ilcb.fr
SUMMARY:16ème Congrès Français d'Acoustique - Marseille
DESCRIPTION:Evenements_CFA2022 \nhttps://cfa2022.sciencesconf.org/
URL:https://www.ilcb.fr/event/16eme-congres-francais-dacoustique-marseille/
LOCATION:Le CAMPUS SAINT CHARLES\, place Victor Hugo\, Marseille\, 13003
CATEGORIES:Conférences
END:VEVENT
BEGIN:VEVENT
DTSTART;TZID=Europe/Paris:20220411T160000
DTEND;TZID=Europe/Paris:20220411T170000
DTSTAMP:20260422T211702
CREATED:20220221T094929Z
LAST-MODIFIED:20220221T094939Z
UID:17860-1649692800-1649696400@www.ilcb.fr
SUMMARY:TBA
DESCRIPTION:Dan Yurovsky  (Carnegie Mellon University) \nAbstract: TBA \nWhere: Zoom link https://univ-amu-fr.zoom.us/j/2515421853
URL:https://www.ilcb.fr/event/tba-10/
LOCATION:via zoom
CATEGORIES:CoCoDev
END:VEVENT
BEGIN:VEVENT
DTSTART;TZID=Europe/Paris:20220425T120000
DTEND;TZID=Europe/Paris:20220425T133000
DTSTAMP:20260422T211702
CREATED:20220221T095233Z
LAST-MODIFIED:20220221T095247Z
UID:17862-1650888000-1650893400@www.ilcb.fr
SUMMARY:Motor-vocal coordination in early language development.
DESCRIPTION:Eva Murillo  (Universidad Autónoma de Madrid) \nAbstract: TBA \nWhere: Zoom link https://univ-amu-fr.zoom.us/j/2515421853
URL:https://www.ilcb.fr/event/motor-vocal-coordination-in-early-language-development/
LOCATION:via zoom
CATEGORIES:CoCoDev
END:VEVENT
BEGIN:VEVENT
DTSTART;TZID=Europe/Paris:20220429T120000
DTEND;TZID=Europe/Paris:20220429T130000
DTSTAMP:20260422T211702
CREATED:20220321T175103Z
LAST-MODIFIED:20220404T074519Z
UID:19006-1651233600-1651237200@www.ilcb.fr
SUMMARY:The role of laughter in human social interactions
DESCRIPTION:Sophie Scott (Director\, Institute of Cognitive Neuroscience\, UCL) \nIn this talk I will explore the neuroscience and evolution of laughter\, a positive emotional vocalisation. I will draw parallels between human use of laughter and laugher and play vocalisations in other mammals\, and I will also show some distinct differences between humans and other animals. I will explore the neural basis of laughter processing and discuss how this may relate to some individual differences in laughter use and experience. \n 
URL:https://www.ilcb.fr/event/sophie-scott/
LOCATION:FRUMAM\, 3 place Victor Hugo\, Marseille\, 13001\, France
CATEGORIES:Lunch Talks
END:VEVENT
END:VCALENDAR